BEGIN:VCALENDAR
VERSION:2.0
PRODID:SchoolNow
CALSCALE:GREGORIAN
BEGIN:VEVENT
UID:54d0ac7c-7c75-11f0-b9ca-0afff983aa55
DTSTAMP:20260331T211715Z
SUMMARY:CDD Board Meeting - Apr. 2026
LOCATION:Offices of Rizzetta & Company\, Inc.\, located at 5844 Old Pasco R
 oad\, Suite 100\, Wesley Chapel\, Fl 33544
URL;VALUE=URI:https://www.hiddencreeknorthcdd.org/calendar/8519125/cdd-boar
 d-meeting-apr-2026
DTSTART:20260407T140000Z
DTEND:20260407T150000Z
ATTACH;FILENAME=2026-04-07 - Hidden Creek North - Final Agenda.pdf;FMTTYPE=
 application/pdf:https://campussuite-storage.s3.amazonaws.com/prod/1558870/
 778aab44-ea97-11e9-93d2-0a20d2c7fac4/3085702/e3cbacce-2d46-11f1-8f27-0a58a
 9feac02/file/2026-04-07 - Hidden Creek North - Final Agenda.pdf
END:VEVENT
END:VCALENDAR
