BEGIN:VCALENDAR
VERSION:2.0
PRODID:SchoolNow
CALSCALE:GREGORIAN
BEGIN:VEVENT
UID:5d5422c0-7c75-11f0-adc5-0affee066179
DTSTAMP:20250818T205316Z
SUMMARY:CDD Board Meeting - May 2026
LOCATION:Offices of Rizzetta & Company\, Inc.\, located at 5844 Old Pasco R
 oad\, Suite 100\, Wesley Chapel\, Fl 33544
URL;VALUE=URI:https://www.hiddencreeknorthcdd.org/calendar/8519126/cdd-boar
 d-meeting-may-2026
DTSTART:20260505T140000Z
DTEND:20260505T150000Z
END:VEVENT
END:VCALENDAR
